BEGIN:VCALENDAR
VERSION:2.0
PRODID:-//The Rockwell - ECPv6.15.17.1//NONSGML v1.0//EN
CALSCALE:GREGORIAN
METHOD:PUBLISH
X-ORIGINAL-URL:https://therockwell.org
X-WR-CALDESC:Events for The Rockwell
REFRESH-INTERVAL;VALUE=DURATION:PT1H
X-Robots-Tag:noindex
X-PUBLISHED-TTL:PT1H
BEGIN:VTIMEZONE
TZID:America/New_York
BEGIN:DAYLIGHT
TZOFFSETFROM:-0500
TZOFFSETTO:-0400
TZNAME:EDT
DTSTART:20240310T070000
END:DAYLIGHT
BEGIN:STANDARD
TZOFFSETFROM:-0400
TZOFFSETTO:-0500
TZNAME:EST
DTSTART:20241103T060000
END:STANDARD
BEGIN:DAYLIGHT
TZOFFSETFROM:-0500
TZOFFSETTO:-0400
TZNAME:EDT
DTSTART:20250309T070000
END:DAYLIGHT
BEGIN:STANDARD
TZOFFSETFROM:-0400
TZOFFSETTO:-0500
TZNAME:EST
DTSTART:20251102T060000
END:STANDARD
BEGIN:DAYLIGHT
TZOFFSETFROM:-0500
TZOFFSETTO:-0400
TZNAME:EDT
DTSTART:20260308T070000
END:DAYLIGHT
BEGIN:STANDARD
TZOFFSETFROM:-0400
TZOFFSETTO:-0500
TZNAME:EST
DTSTART:20261101T060000
END:STANDARD
END:VTIMEZONE
BEGIN:VEVENT
DTSTART;TZID=America/New_York:20250731T190000
DTEND;TZID=America/New_York:20250731T203000
DTSTAMP:20260419T092212
CREATED:20250131T194418Z
LAST-MODIFIED:20250529T165652Z
UID:10007159-1753988400-1753993800@therockwell.org
SUMMARY:JEANPAULBROS: A Road to Absurdity
DESCRIPTION:JEANPAULBROS: A Road to Absurdity\nAn unconventional sketch show filled with absurd and relatable live and video sketches. \nCome join the Jean-Paul Bros on a journey of laughter\, adventure \, and discovery. The Bros will offer the audience a movie theater experience that you don’t normally see in Boston. Watch the Bros use visuals and physicality all in the form of comedy \nJEANPAULBROS are aspiring filmmakers and fitness enthusiasts. The twins have been making sketch comedy videos for 11 years and have done live comedy at improv Boston\, Rozzie square Theater\, and The Bodega “Intersection” at the Calderwood Pavilion. They have performed in comedy festivals like\, NYC sketch fest\, Seattle sketch fest\, Austin sketch fest \, and North Carolina comedy festival. Their content focuses on\, Parodies\, drama\, action\, sports\, and a bit of romance. \n  \nMORE: https://www.jeanpaulbrosentertainment.com \nIG: jpbros92 \nTikTok: JEANPAULBROS \n  \nThis event is All Ages\, suggested Age is 18+  // Valid ID required for alcohol consumption \nDoors 6:15 PM  \nShow 7:00 PM  \nTickets $15 adv / $20 day of \nUNFORTUNATELY\, THERE IS NO LATE SEATING FOR COMEDY & THEATER.\nSeating begins 30-60 minutes before show time. We sit center and front sections first\, side sections last. If you want a central seat\, please arrive early. Show will begin no later than 15 minutes after showtime. No refunds for late entry. \nNO REFUNDS\, ONLY EXCHANGES FOR SHOW CREDIT \nWheelchair Accessibility: Please call the host at (617) 628-4444 to let you in through the elevator in The Gorin Building.
URL:https://therockwell.org/calendar/jeanpaulbros/
LOCATION:The Rockwell
CATEGORIES:Comedy,Sketch Comedy
ATTACH;FMTTYPE=image/png:https://therockwell.org/wp-content/uploads/2025/01/JEANPAULBROS-by-Rockwell-3.png
END:VEVENT
END:VCALENDAR