BEGIN:VCALENDAR
VERSION:2.0
PRODID:-//The Rockwell - ECPv6.15.17.1//NONSGML v1.0//EN
CALSCALE:GREGORIAN
METHOD:PUBLISH
X-WR-CALNAME:The Rockwell
X-ORIGINAL-URL:https://therockwell.org
X-WR-CALDESC:Events for The Rockwell
REFRESH-INTERVAL;VALUE=DURATION:PT1H
X-Robots-Tag:noindex
X-PUBLISHED-TTL:PT1H
BEGIN:VTIMEZONE
TZID:America/New_York
BEGIN:DAYLIGHT
TZOFFSETFROM:-0500
TZOFFSETTO:-0400
TZNAME:EDT
DTSTART:20240310T070000
END:DAYLIGHT
BEGIN:STANDARD
TZOFFSETFROM:-0400
TZOFFSETTO:-0500
TZNAME:EST
DTSTART:20241103T060000
END:STANDARD
BEGIN:DAYLIGHT
TZOFFSETFROM:-0500
TZOFFSETTO:-0400
TZNAME:EDT
DTSTART:20250309T070000
END:DAYLIGHT
BEGIN:STANDARD
TZOFFSETFROM:-0400
TZOFFSETTO:-0500
TZNAME:EST
DTSTART:20251102T060000
END:STANDARD
BEGIN:DAYLIGHT
TZOFFSETFROM:-0500
TZOFFSETTO:-0400
TZNAME:EDT
DTSTART:20260308T070000
END:DAYLIGHT
BEGIN:STANDARD
TZOFFSETFROM:-0400
TZOFFSETTO:-0500
TZNAME:EST
DTSTART:20261101T060000
END:STANDARD
END:VTIMEZONE
BEGIN:VEVENT
DTSTART;TZID=America/New_York:20250614T213000
DTEND;TZID=America/New_York:20250614T213000
DTSTAMP:20260419T104309
CREATED:20250515T182709Z
LAST-MODIFIED:20250515T182709Z
UID:10009150-1749936600-1749936600@therockwell.org
SUMMARY:The Nova Show presents: Welcome to Camp Camp
DESCRIPTION:The Nova Show presents: Welcome to Camp Camp\n\n\nSomerville’s favorite comedy variety show is back with all new sketches\, guest comedians\, and musical artists. And this time\, we’re going to summer camp! \nThe Nova Show’s Welcome to Camp Camp is a sketch review full of joy\, laughs\, and sunshine! After all\, there hasn’t been a murder at Camp Camp in almost a year… \nThe Nova Show is a comedy variety show\, hosted by local favorite David Thomas. This show features some of Boston’s best comedians\, and other exciting local guests. Every Nova Show features hilarious original sketches\, live music\, and new surprises. \nThe Nova Comedy Collective is a collective of comedians and creators embracing radical hope\, limitless fun\, and uncompromising inclusivity. With a mission to create live shows and other adventures in creativity that are unique\, daring\, and authentic\, The Nova Comedy Collective promotes belonging and community\, encourages collaboration\, and celebrates imagination\, honesty\, and risk-taking. At The Nova Comedy Collective\, we’re always laughing with you. Learn more at thenovacomedy.com\, and on Instagram and Facebook @thenovacomedy. \n  \n\n\n\n\nAGES: This event is 21+ // Valid ID required for ENTRY \nDOORS 6:15 PM \nSHOW 7:00 PM \nUNFORTUNATELY\, THERE IS NO LATE SEATING FOR COMEDY & THEATER. \nSeating begins 30-60 minutes before show time. We sit center and front sections first\, side sections last. If you want a central seat\, please arrive early. Show will begin no later than 15 minutes after showtime. No refunds for late entry. \nNO REFUNDS. \nWHEELCHAIR ACCESSIBILITY: There is an elevator in the glass foyer in “The Gorin Building” to the right of the Saloon/Rockwell Entrance. Please use this and press “B” for basement for the Rockwell. Please call the host after 5pm at (617) 628-4444 if any trouble.
URL:https://therockwell.org/calendar/welcome-to-camp-camp/
LOCATION:The Rockwell
CATEGORIES:Comedy,Sketch Comedy
ATTACH;FMTTYPE=image/png:https://therockwell.org/wp-content/uploads/2025/05/The-Nova-Show-2.png
END:VEVENT
END:VCALENDAR