BEGIN:VCALENDAR
VERSION:2.0
PRODID:-//The Rockwell - ECPv6.15.17.1//NONSGML v1.0//EN
CALSCALE:GREGORIAN
METHOD:PUBLISH
X-ORIGINAL-URL:https://therockwell.org
X-WR-CALDESC:Events for The Rockwell
REFRESH-INTERVAL;VALUE=DURATION:PT1H
X-Robots-Tag:noindex
X-PUBLISHED-TTL:PT1H
BEGIN:VTIMEZONE
TZID:America/New_York
BEGIN:DAYLIGHT
TZOFFSETFROM:-0500
TZOFFSETTO:-0400
TZNAME:EDT
DTSTART:20230312T070000
END:DAYLIGHT
BEGIN:STANDARD
TZOFFSETFROM:-0400
TZOFFSETTO:-0500
TZNAME:EST
DTSTART:20231105T060000
END:STANDARD
BEGIN:DAYLIGHT
TZOFFSETFROM:-0500
TZOFFSETTO:-0400
TZNAME:EDT
DTSTART:20240310T070000
END:DAYLIGHT
BEGIN:STANDARD
TZOFFSETFROM:-0400
TZOFFSETTO:-0500
TZNAME:EST
DTSTART:20241103T060000
END:STANDARD
BEGIN:DAYLIGHT
TZOFFSETFROM:-0500
TZOFFSETTO:-0400
TZNAME:EDT
DTSTART:20250309T070000
END:DAYLIGHT
BEGIN:STANDARD
TZOFFSETFROM:-0400
TZOFFSETTO:-0500
TZNAME:EST
DTSTART:20251102T060000
END:STANDARD
END:VTIMEZONE
BEGIN:VEVENT
DTSTART;TZID=America/New_York:20240605T190000
DTEND;TZID=America/New_York:20240605T190000
DTSTAMP:20260420T043332
CREATED:20240310T145701Z
LAST-MODIFIED:20240310T145701Z
UID:10006274-1717614000-1717614000@therockwell.org
SUMMARY:The Gayly Show with Alexa Albanese (18+)
DESCRIPTION:SUGGESTED AGE: 18+\n\nSynopsis:\nAlexa Albanese is back at The Rockwell for the third year in a row to kick off Pride month! Don’t miss her original comedy-variety show that she’s almost as proud of as the fact that this will be “late-night comedy” at a reasonable hour.\n\nDescription:\nCome be a part of the live studio audience for an evening filled with desk bits\, music\, and plenty of laughs. Versions of this show have been featured at The People’s Improv Theater’s Solocom festival in New York City and ImprovBoston’s Best of Boston Sketch. Each performance is topical\, so you’ll never see the same show twice. Support local comedy\, live comedy\, and a late-night host whose name *is not* Jimmy! www.alexaalbanese.com\n\nThis event is All Ages but suggested Age 18+ // Valid ID required for alcohol \nDoors at 6:30 PM\nShow at 7:00 PM \nUNFORTUNATELY\, THERE IS NO LATE SEATING. Seating begins 30 minutes before show time. We sit center and front sections first\, side sections last. If you want a central seat\, please arrive early.  \nShow will begin no later than 10 minutes of showtime. \nWheelchair Accessibility: Please call the host at (617) 628-4444 to let you in through the elevator in The Gorin Building.
URL:https://therockwell.org/calendar/the-gayly-show-with-alexa-albanese/
LOCATION:The Rockwell
CATEGORIES:Comedy,Sketch Comedy,Standup Comedy
ATTACH;FMTTYPE=:
END:VEVENT
END:VCALENDAR