BEGIN:VCALENDAR
VERSION:2.0
PRODID:-//The Rockwell - ECPv6.15.17.1//NONSGML v1.0//EN
CALSCALE:GREGORIAN
METHOD:PUBLISH
X-ORIGINAL-URL:https://therockwell.org
X-WR-CALDESC:Events for The Rockwell
REFRESH-INTERVAL;VALUE=DURATION:PT1H
X-Robots-Tag:noindex
X-PUBLISHED-TTL:PT1H
BEGIN:VTIMEZONE
TZID:America/New_York
BEGIN:DAYLIGHT
TZOFFSETFROM:-0500
TZOFFSETTO:-0400
TZNAME:EDT
DTSTART:20240310T070000
END:DAYLIGHT
BEGIN:STANDARD
TZOFFSETFROM:-0400
TZOFFSETTO:-0500
TZNAME:EST
DTSTART:20241103T060000
END:STANDARD
BEGIN:DAYLIGHT
TZOFFSETFROM:-0500
TZOFFSETTO:-0400
TZNAME:EDT
DTSTART:20250309T070000
END:DAYLIGHT
BEGIN:STANDARD
TZOFFSETFROM:-0400
TZOFFSETTO:-0500
TZNAME:EST
DTSTART:20251102T060000
END:STANDARD
BEGIN:DAYLIGHT
TZOFFSETFROM:-0500
TZOFFSETTO:-0400
TZNAME:EDT
DTSTART:20260308T070000
END:DAYLIGHT
BEGIN:STANDARD
TZOFFSETFROM:-0400
TZOFFSETTO:-0500
TZNAME:EST
DTSTART:20261101T060000
END:STANDARD
END:VTIMEZONE
BEGIN:VEVENT
DTSTART;TZID=America/New_York:20250313T190000
DTEND;TZID=America/New_York:20250313T190000
DTSTAMP:20260419T211001
CREATED:20250104T191525Z
LAST-MODIFIED:20250227T230236Z
UID:10007108-1741892400-1741892400@therockwell.org
SUMMARY:Ain't Mitzvahavin' 4th Annual Purimshpiel
DESCRIPTION:It’s Ain’t Mitzvahavin’s fourth annual Purimshpiel! Your favorite (and only) Boston-based queer Jewish performance troupe is bringing the Book of Esther back to the stage and it’s going to be bigger\, better\, and gayer than you can even imagine. Celebrate one of the most fun holidays in the Jewish calendar with set dressing\, crossdressing\, and undressing. Costumes are encouraged and our best-dressed audience member may just win a prize… \nCome and experience the joy of Purim with your local queer Jewish community! All are welcome; you won’t want to miss it. \n  \nThis event is All Ages\, suggested Age is 18+  // Valid ID required for alcohol consumption \nDoors 6:15 PM  \nShow 7:00 PM  \nTickets $25 adv / $30 day of \n  \nNO REFUNDS 7 DAYS BEFORE EVENT  \nWheelchair Accessibility: Please call the host at (617) 628-4444 to let you in through the elevator in The Gorin Building.
URL:https://therockwell.org/calendar/aint-mitzvahavin-purimshpiel/
LOCATION:The Rockwell
CATEGORIES:Burlesque & Drag,Comedy,Family Friendly,Karaoke,Musical Theater,Storytelling
ATTACH;FMTTYPE=image/png:https://therockwell.org/wp-content/uploads/2025/01/Aint-Mitzvahavin.png
END:VEVENT
END:VCALENDAR