BEGIN:VCALENDAR
VERSION:2.0
PRODID:-//The Rockwell - ECPv6.15.17.1//NONSGML v1.0//EN
CALSCALE:GREGORIAN
METHOD:PUBLISH
X-WR-CALNAME:The Rockwell
X-ORIGINAL-URL:https://therockwell.org
X-WR-CALDESC:Events for The Rockwell
REFRESH-INTERVAL;VALUE=DURATION:PT1H
X-Robots-Tag:noindex
X-PUBLISHED-TTL:PT1H
BEGIN:VTIMEZONE
TZID:America/New_York
BEGIN:DAYLIGHT
TZOFFSETFROM:-0500
TZOFFSETTO:-0400
TZNAME:EDT
DTSTART:20250309T070000
END:DAYLIGHT
BEGIN:STANDARD
TZOFFSETFROM:-0400
TZOFFSETTO:-0500
TZNAME:EST
DTSTART:20251102T060000
END:STANDARD
BEGIN:DAYLIGHT
TZOFFSETFROM:-0500
TZOFFSETTO:-0400
TZNAME:EDT
DTSTART:20260308T070000
END:DAYLIGHT
BEGIN:STANDARD
TZOFFSETFROM:-0400
TZOFFSETTO:-0500
TZNAME:EST
DTSTART:20261101T060000
END:STANDARD
BEGIN:DAYLIGHT
TZOFFSETFROM:-0500
TZOFFSETTO:-0400
TZNAME:EDT
DTSTART:20270314T070000
END:DAYLIGHT
BEGIN:STANDARD
TZOFFSETFROM:-0400
TZOFFSETTO:-0500
TZNAME:EST
DTSTART:20271107T060000
END:STANDARD
END:VTIMEZONE
BEGIN:VEVENT
DTSTART;TZID=America/New_York:20260424T190000
DTEND;TZID=America/New_York:20260424T190000
DTSTAMP:20260424T021343
CREATED:20260309T002334Z
LAST-MODIFIED:20260424T032252Z
UID:10009669-1777057200-1777057200@therockwell.org
SUMMARY:Psyched Out
DESCRIPTION:Psyched Out\n\n\nDive into the hilariously unpredictable world of Psyched Out\, an improv comedy show inspired by live psychic readings. Psychic medium Karen Kelly takes the stage alongside talented improvisers to deliver live readings to audience members on topics like love\, work\, past lives\, and even ghosts. The improvisers use these psychic readings to create hilarious\, on-the-spot scenes— a one-of-a-kind blend of comedy and clairvoyance you won’t want to miss! \nLive Psychic Readings by Cape Cod Psychic Medium – Karen Kelly\, capecodpsychic.com \nPsyched Out is produced by ‘I Don’t Care For This.’ For show updates and more\, follow @idc4thiscomedy on Instagram or visit psychedoutcomedy.com \n\n\n\n\n\nThis event is 21+ Valid ID required for entry \nDoors 6:15 PM  \nShow 7:00 PM  \nLATE SEATING POLICY:\nLate seating is not guaranteed for comedy or theater.\nLate seating will end after the opener\, if there is one\, and when the headliner begins. \nWHY LIMITED LATE SEATING: Due to the architecture of our space\, the entrance is next to the stage and it is disruptive to the performer to enter late. We will seat you if there is an opener but once the headliner starts\, you may be allowed to sit in the lobby but will not be allowed to enter. Please know this is for the best experience for the artist. No refunds for late entry. \nSTART TIME: Performances will begin no later than 15 minutes after stated show time. \nNO REFUNDS. \nWHEELCHAIR ACCESSIBILITY: Please enter through the glass foyer to the right of our entrance\, press B and you will arrive in the Basement for Saloon and The Rockwell. Please call the host at (617) 628-4444 for assistance.
URL:https://therockwell.org/calendar/psyched-out-2/
LOCATION:The Rockwell
CATEGORIES:Comedy
ATTACH;FMTTYPE=image/jpeg:https://therockwell.org/wp-content/uploads/2026/03/psyched-out.jpg
END:VEVENT
BEGIN:VEVENT
DTSTART;TZID=America/New_York:20260424T213000
DTEND;TZID=America/New_York:20260424T213000
DTSTAMP:20260424T021343
CREATED:20260308T031714Z
LAST-MODIFIED:20260311T235948Z
UID:10009666-1777066200-1777066200@therockwell.org
SUMMARY:The Nova Show
DESCRIPTION:Don’t Touch That Remote!! The Nova Show is back with another sketch variety show! And this time\, we’re going channel surfing.\n\nIn “I Dream of TV”\, the cast of the Nova Show will fall headlong into their television sets\, where they’ll click through classic sitcoms\, game shows\, and reality TV. Come with us on an action-packed 90 minute romp through all the best comforts and distractions our TV’s have to offer. Get ready for all-new sketches\, stand-up comedy\, special guests\, and live music – and hold onto your couch cushions! Because this dream is about to get fiber-optic!! \nHosted by local favorite David Thomas\, and featuring our very own DJ\, TJ Reynolds\, plus other exciting local guests. This show is 90 minutes\, including a 15 minute intermission. \n  \n—\nThe Nova Comedy Collective is a collective of comedians and creators embracing radical hope\, limitless fun\, and uncompromising inclusivity. With a mission to create live shows and other adventures in creativity that are unique\, daring\, and authentic\, The Nova Comedy Collective promotes belonging and community\, encourages collaboration\, and celebrates imagination\, honesty\, and risk-taking. At The Nova Comedy Collective\, we’re always laughing with you. Learn more at thenovacomedy.com\, and on Instagram and Facebook @thenovacomedy. \n\n  \n  \nThis event is 21+\nValid ID required for ENTRY \nDoors 9:00 PM  \nShow 9:30 PM  \nLATE SEATING POLICY:\nLate seating is not guaranteed for comedy or theater.\nLate seating will end after the opener\, if there is one\, and when the headliner begins. \nWHY LIMITED LATE SEATING: Due to the architecture of our space\, the entrance is next to the stage and it is disruptive to the performer to enter late. We will seat you if there is an opener but once the headliner starts\, you may be allowed to sit in the lobby but will not be allowed to enter. Please know this is for the best experience for the artist. No refunds for late entry. \nSTART TIME: Performances will begin no later than 15 minutes after stated show time. \nNO REFUNDS. \nWHEELCHAIR ACCESSIBILITY: Please enter through the glass foyer to the right of our entrance\, press B and you will arrive in the Basement for Saloon and The Rockwell. Please call the host at (617) 628-4444 for assistance.
URL:https://therockwell.org/calendar/the-nova-show-2/
LOCATION:The Rockwell
CATEGORIES:Comedy
ATTACH;FMTTYPE=image/jpeg:https://therockwell.org/wp-content/uploads/2026/03/nova-show.jpg
END:VEVENT
END:VCALENDAR